BEGIN:VCALENDAR
VERSION:2.0
PRODID:-//DCA - ECPv6.15.17.1//NONSGML v1.0//EN
CALSCALE:GREGORIAN
METHOD:PUBLISH
X-ORIGINAL-URL:https://dca.cat/en/
X-WR-CALDESC:Events for DCA
REFRESH-INTERVAL;VALUE=DURATION:PT1H
X-Robots-Tag:noindex
X-PUBLISHED-TTL:PT1H
BEGIN:VTIMEZONE
TZID:Europe/Madrid
BEGIN:DAYLIGHT
TZOFFSETFROM:+0100
TZOFFSETTO:+0200
TZNAME:CEST
DTSTART:20240331T010000
END:DAYLIGHT
BEGIN:STANDARD
TZOFFSETFROM:+0200
TZOFFSETTO:+0100
TZNAME:CET
DTSTART:20241027T010000
END:STANDARD
BEGIN:DAYLIGHT
TZOFFSETFROM:+0100
TZOFFSETTO:+0200
TZNAME:CEST
DTSTART:20250330T010000
END:DAYLIGHT
BEGIN:STANDARD
TZOFFSETFROM:+0200
TZOFFSETTO:+0100
TZNAME:CET
DTSTART:20251026T010000
END:STANDARD
BEGIN:DAYLIGHT
TZOFFSETFROM:+0100
TZOFFSETTO:+0200
TZNAME:CEST
DTSTART:20260329T010000
END:DAYLIGHT
BEGIN:STANDARD
TZOFFSETFROM:+0200
TZOFFSETTO:+0100
TZNAME:CET
DTSTART:20261025T010000
END:STANDARD
END:VTIMEZONE
BEGIN:VEVENT
DTSTART;TZID=Europe/Madrid:20250605T100000
DTEND;TZID=Europe/Madrid:20250605T110000
DTSTAMP:20260419T154917
CREATED:20250520T183936Z
LAST-MODIFIED:20250523T083320Z
UID:11192-1749117600-1749121200@dca.cat
SUMMARY:Webinar: La indústria s’obre a l’escola amb perspectiva de gènere
DESCRIPTION:La Digital Catalonia Alliance (DCA)\, en col·laboració amb la Direcció General de Cures\, Organització del Temps i Equitat en els Treballs del Departament d’Igualtat i Feminismes\, organitza una sessió en línia per donar a conèixer el programa “La indústria s’obre a l’escola amb perspectiva de gènere” a les empreses de la DCA per animar-les a participar-hi. \nAquest projecte\, actiu des del 2024 i desenvolupat conjuntament amb el Departament d’Educació\, busca apropar l’alumnat a la indústria catalana de proximitat per fomentar vocacions industrials des d’una mirada inclusiva\, posant especial èmfasi a incrementar la presència de dones en el sector tecnològic i industrial. \nDurant el webinar\, s’aportaran dades sobre la presència de dones a la indústria tecnològica\, es presentarà el funcionament del programa i es compartirà l’experiència d’Open Cosmos\, empresa participant en l’edició 2024-2025 del programa a través de la DCA. \nPrograma\n10.00 h – Inici de l’acte \nBenvinguda \n\nRosamaria Meseguer\, Digital Catalonia Alliance\n\nPresentació del programa “La indústria s’obre a l’escola amb perspectiva de gènere” \n\nSaray Espejo Benito\, Directora General de Cures\, Organització del Temps i Equitat en els Treballs\nRosa Sánchez González\, Tècnica de la Direcció General de Cures\, Organització del Temps i Equitat en els Treballs\n\nExperiència d’una empresa participant \n\nAndrea Nicuta\, responsable de Recursos Humans d’Open Cosmos\n\nTorn obert de preguntes \n11.00 h – Final de l’acte \nLa Digital Catalonia Alliance (DCA) és una iniciativa impulsada per la Generalitat de Catalunya a través de la Secretaria de Polítiques Digitals del Departament d’Empresa i Treball i el centre de recerca i2CAT.
URL:https://dca.cat/en/esdeveniment/webinar-la-industria-sobre-a-lescola-amb-perspectiva-de-genere/
CATEGORIES:Blockchain,GovTech,DCA,IoT,Drones,Cybersecurity,IA,Space
ATTACH;FMTTYPE=image/png:https://dca.cat/wp-content/uploads/2025/05/250605_webinar-industria-escola.png
END:VEVENT
BEGIN:VEVENT
DTSTART;TZID=Europe/Madrid:20250610T093000
DTEND;TZID=Europe/Madrid:20250610T183000
DTSTAMP:20260419T154917
CREATED:20250519T070106Z
LAST-MODIFIED:20250528T201707Z
UID:11175-1749547800-1749580200@dca.cat
SUMMARY:Jornada anual de la DCA-Drons
DESCRIPTION:La comunitat de Drons de la Digital Catalonia Alliance celebra la seva trobada anual el dimarts 10 de juny de 2025 a l’auditori de la Universitat Politècnica de Catalunya\, situat a l’edifici Vèrtex del Campus Nord (Plaça d’Eusebi Güell\, 6\, 08034 Barcelona – Accés pel carrer de Dulcet). \nDurant la jornada\, es presentarà el balanç de l’activitat duta a terme per la comunitat i es podrà conèixer el procés de creació d’una finestreta única per als tràmits de drons\, un projecte pioner a l’estat espanyol que facilitarà la relació entre empreses i administració pública i agilitzarà les gestions. \nCom és habitual\, la jornada comptarà amb un espai de networking per facilitar la coneixença i intercanvi entre els membres de la DCA assistents. \n  \nAmb la coorgantizació de la Universitat Politècnica de Catalunya – BarcelonaTech (UPC) i Mossos d’Esquadra\, la jornada s’amplia amb dues sessions de presentació del Reial Decret 517/2024 que regula l’ús de sistemes d’aeronaus no tripulades (UAS). \n  \nJornada anual de la DCA-Drons (9.30 – 11 h)\n09.30 h – Recepció dels assistents i acreditació \n09.45 h – Benvinguda\, balanç i línies d’activitat de la DCA-Drons 2025 \n\nCristina Ramos\, responsable de la DCA-Drons (Digital Catalonia Alliance)\nEnric Pastor\, investigador en cap del grup de recerca\, ICARUS-UPC\n\n10.00 h – Esmorzar de networking \nPresentació del Reial Decret 517/2024 – Operacions EASA (11 – 14 h)\nActe obert de presentació del Nou Reial Decret 517/2024 obert a particulars\, empreses\, operadors de drons\, administracions i cossos i forces de seguretat per tal de conèixer els canvis en la normativa i les seves implicacions per al sector dels drons. \n10.45 h – Recepció dels assistents \n11.15 h – Benvinguda i presentació de la jornada \n11.30 h – Presentació del Reial Decret 517/2024 \n\nJuan Moya\, Tècnic d’Operacions d’UAS\, Agència Estatal de Seguretat Aèria (AESA)\nAndrés Casas\, inspector aeronàutic\, Agència Estatal de Seguretat Aèria (AESA)\nDiego Ernesto Zaglul\, tècnic de Formació i Tecnologia UAS\, Agència Estatal de Seguretat Aèria (AESA)\n\n13.00 h – Torn obert de preguntes \nPresentació del Reial Decret 517/2024 – Operacions No EASA (15 – 18.30 h)\nSessió reservada per a cossos i forces de seguretat i emergències i per a operadors d’UAS que duen a terme operacions No EASA a petició dels organismes anteriorment esmentats\, i on l’Agència Estatal de Seguretat Aèria (AESA) presentarà en detall la part del nou reglament d’UAS aplicable a aquest tipus d’operacions i organismes. \n15:00 h – Recepció dels assistents \n15.30 h – Benvinguda i presentació de la jornada \n\nSotsinspector Avelí Garcia\, cap de l’Àrea Aèria de Mossos d’Esquadra\n\n15.45 h – Presentació del Reial Decret 517/2024  \n\nJuan Moya\, tècnic d’Operacions d’UAS\, Agència Estatal de Seguretat Aèria (AESA)\nAndrés Casas\, inspector aeronàutic\, Agència Estatal de Seguretat Aèria (AESA)\nDiego Ernesto Zaglul\, tècnic de Formació i Tecnologia UAS\, Agència Estatal de Seguretat Aèria (AESA)\n\n17.00 h – Torn obert de preguntes \n17.30 h – Coordinació d’operacions amb UAS amb ENAIRE \n\nRuben Alonso\, Tècnic de Sistemes i Instal·lacions de Navegació Aèria\, ENAIRE\nJuan Jesús Cano\, cap del departament de Coordinació Operativa d’Espai Aeri\, ENAIRE\n\n18.30 h – Cloenda
URL:https://dca.cat/en/esdeveniment/jornada-anual-de-la-dca-drons-2/
CATEGORIES:Drones
ATTACH;FMTTYPE=image/png:https://dca.cat/wp-content/uploads/2025/05/DCA-Plantilles-2025-6.png
END:VEVENT
BEGIN:VEVENT
DTSTART;TZID=Europe/Madrid:20250619T113000
DTEND;TZID=Europe/Madrid:20250619T143000
DTSTAMP:20260419T154917
CREATED:20250521T090007Z
LAST-MODIFIED:20250612T091507Z
UID:11185-1750332600-1750343400@dca.cat
SUMMARY:DCA Digital Lunch 2025
DESCRIPTION:El pròxim 19 de juny\, arriba una nova edició del Digital Lunch\, la trobada adreçada exclusivament als membres Prèmium de la Digital Catalonia Alliance (DCA). \nDe la mà de Mercè Brey\, experta en lideratge inclusiu i diversitat\, reflexionarem sobre el model de lideratge que exercim i el seu impacte. \nA partir d’un exercici pràctic\, detectarem els perfils de lideratge alfa i omega\, en sabrem les diferències i aprendrem a activar el seu potencial amb eines que afavoreixen el benestar i l’alt rendiment dels equips. \nLa jornada comptarà amb un aperitiu de networking per compartir impressions i generar noves connexions amb altres membres Prèmium de la DCA. \nL’activitat se celebrarà en el Pier 07 (Via Laietana\, 26\, Barcelona) i està restringit als membres Prèmium amb un aforament reduït limitat a dos assistents per empresa membre per facilitar la participació i interacció dels assistents. \n  \nPrograma\n11.30 h – Acreditaciós dels assistets \n11.45 h – Benvinguda \n\nSandra Ruiz\, directora general d’Economia i Societat Digitals\n\n11.55 h – Ponència “Alfa i Omega\, quan la diferència suma”\, seguida d’un workshop amb els assistents. \n\nMercè Brey\, experta en lideratge inclusiu i diversitat\n\n13.00 h – Aperitiu de networking\nA la terrassa del Pier07 \n14.30 h – Final de la jornada
URL:https://dca.cat/en/esdeveniment/dca-digital-lunch-2025/
CATEGORIES:Blockchain,GovTech,DCA,IoT,Drones,Cybersecurity,IA,Space
ATTACH;FMTTYPE=image/png:https://dca.cat/wp-content/uploads/2025/05/Digital-Lunch.png
END:VEVENT
END:VCALENDAR