BEGIN:VCALENDAR
VERSION:2.0
PRODID:-//DCA - ECPv6.15.17.1//NONSGML v1.0//EN
CALSCALE:GREGORIAN
METHOD:PUBLISH
X-ORIGINAL-URL:https://dca.cat/en/
X-WR-CALDESC:Events for DCA
REFRESH-INTERVAL;VALUE=DURATION:PT1H
X-Robots-Tag:noindex
X-PUBLISHED-TTL:PT1H
BEGIN:VTIMEZONE
TZID:Europe/Madrid
BEGIN:DAYLIGHT
TZOFFSETFROM:+0100
TZOFFSETTO:+0200
TZNAME:CEST
DTSTART:20220327T010000
END:DAYLIGHT
BEGIN:STANDARD
TZOFFSETFROM:+0200
TZOFFSETTO:+0100
TZNAME:CET
DTSTART:20221030T010000
END:STANDARD
BEGIN:DAYLIGHT
TZOFFSETFROM:+0100
TZOFFSETTO:+0200
TZNAME:CEST
DTSTART:20230326T010000
END:DAYLIGHT
BEGIN:STANDARD
TZOFFSETFROM:+0200
TZOFFSETTO:+0100
TZNAME:CET
DTSTART:20231029T010000
END:STANDARD
BEGIN:DAYLIGHT
TZOFFSETFROM:+0100
TZOFFSETTO:+0200
TZNAME:CEST
DTSTART:20240331T010000
END:DAYLIGHT
BEGIN:STANDARD
TZOFFSETFROM:+0200
TZOFFSETTO:+0100
TZNAME:CET
DTSTART:20241027T010000
END:STANDARD
END:VTIMEZONE
BEGIN:VEVENT
DTSTART;TZID=Europe/Madrid:20230201T090000
DTEND;TZID=Europe/Madrid:20230201T100000
DTSTAMP:20260423T152621
CREATED:20230111T063956Z
LAST-MODIFIED:20230111T065455Z
UID:6439-1675242000-1675245600@dca.cat
SUMMARY:Sessió oberta dels grups de treball d’Internacionalització i Transformació Operativa i Regulatori
DESCRIPTION:Des de la DCA-Ciberseguretat\, amb la col·laboració de l’Agència de Ciberseguretat de Catalunya\, s’organitzen dues sessions obertes dels quatre grups de treball vinculats al sector de la ciberseguretat: Internacionalització\, Transformació Operativa i Regulatori\, Talent i Start-ups i Inversió. L’objectiu de les sessions és presentar i debatre la proposta de línies d’acció i reptes a treballar de cara al 2023 des de cadascun dels grups de treball per tal de definir un full de ruta compartit i sumar esforços dins de l’ecosistema empresarial del territori. La primera sessió se celebrarà el 1 de febrer de 9 h a 10 h a l’Agència de Ciberseguretat de Catalunya (Com arribar-hi?) sobre els grups de treball d’Internacionalització i Transformació Operativa i Regulatori. \nLes sessions s’adreça principalment a membres de la comunitat de Ciberseguretat\, però està oberta a organitzacions del sector amb interès per una o més de les temàtiques dels grups de treball. Tots els membres de la DCA estan convidats a participar activament en l’activitat dels grups de treball i aquestes sessions són una oportunitat per aflorar els interessos de les organitzacions. La jornada culminarà amb un esmorzar de networking.  \nLes dues sessions s’emmarquen en el conjunt d’activitats de la DCA-Ciberseguretat organiza en el al Barcelona Cybersecurity Congress\, que se celebra del 31 de gener al 2 de febrer al Recinte Fira Barcelona Gran Via. El Barcelona Cybersecurtiy Congress\, organitzat per l’Agència de Ciberseguretat de Catalunya i Fira Barcelona\, és l’esdeveniment líder en l’àmbit de la ciberseguretat Catalunya i un punt de trobada per compartir i trobar solucions reals a reptes i necessitats del sector.   \nPrograma\n09.00 h – Benvinguda  \n09:05 h – Presentació de les principals verticals i temàtiques d’interès 2023 \n09:30 h – Selecció i validació de les temàtiques d’interès.  \n09:45 h -Presentació del calendari 2023 i metodologia de funcionament \n09:50 h -Precs i preguntes  \n10:00 h – Tancament i esmorzar de networking
URL:https://dca.cat/en/esdeveniment/sessio-oberta-grups-treball-internacionalitzacio-transformacio-operativa-regulatori/
LOCATION:Agència de Ciberseguretat de Catalunya\, C. de Salvador Espriu\, 45\, Hospitalet de Llobregat\, Barcelona\, 08908\, Espanya
CATEGORIES:Cybersecurity
ATTACH;FMTTYPE=image/png:https://dca.cat/wp-content/uploads/2023/01/GrupTreball1.png
END:VEVENT
BEGIN:VEVENT
DTSTART;TZID=Europe/Madrid:20230201T090000
DTEND;TZID=Europe/Madrid:20230202T100000
DTSTAMP:20260423T152621
CREATED:20221223T095119Z
LAST-MODIFIED:20230127T121838Z
UID:6377-1675242000-1675332000@dca.cat
SUMMARY:La DCA\, al Barcelona Cybersecurity Congress 2023
DESCRIPTION:Per segon any consecutiu\, la DCA-Ciberseguretat\, amb la col·laboració de l’Agència de Ciberseguretat de Catalunya (ACC)\, estaran presents al Barcelona Cybersecurity Congress 2023\, que se celebra del 31 de gener al 2 de febrer al Recinte Fira Barcelona Gran Via.  \nEl Barcelona Cybersecurtiy Congress\, organitzat per l’Agència de Ciberseguretat de Catalunya i Fira Barcelona\, és l’esdeveniment líder en l’àmbit de la ciberseguretat Catalunya i un punt de trobada per compartir i trobar solucions reals a reptes i necessitats del sector. Enguany\, la DCA-Ciberseguretat organitza activitats entre els dies 1 i 2 de febrer vinculades a la formació i retenció de talent\, difusió del coneixement i networking. \nTotes les sessions seran en català i/o castellà i estan obertes a totes les organitzacions de l’àmbit de la ciberseguretat\, a excepció del “Networking Event”\, adreçat exclusivament a membres de la comunitat de Ciberseguretat de la Digital Catalonia Alliance (DCA).  \nLa DCA enguany és ambassador oficial del Barcelona Cybersecurity Congress. Gràcies a aquesta col·laboració\, tots els membres de la DCA-Ciberseguretat que s’inscriguin a una de les activitats organitzades per la DCA-Ciberseguretat en el marc del congrés podran obtenir de manera gratuïta una entrada Expo+ Pass\, valorada en 200 euros.  \nClica a cadascuna de les activitats per consultar més informació. \nPrograma\nDIMECRES 1 DE FEBRER \nDe 9 h a 10 h | Agència de Ciberseguretat de Catalunya \n\n“Sessió oberta dels grups de treball de DCA-Ciberseguretat: Internacionalització i Transformació Operativa i Regulatori” (FORMACIÓ I RETENCIÓ DE TALENT)\n\nDe 12 h a 12.45 h | BCN Cybersecurity Congress (Hacking Village) \n\n“Attracting and Retaining Talent in the Cybersecurity Market” (DIFUSIÓ DEL CONEIXEMENT)\n\n Amb la participació de les organitzacions Fundación GoodJob\, ISACA\, Ackcent Cybersecurity\, Universitat Politècnica de Catalunya i Agència de Ciberseguretat de Catalunya \nDe 12.45 h a 13.30 h | BCN Cybersecurity Congress (Hacking Village) \n\n“Identifying Best Practices in Cybersecurity from Industry Peers” (DIFUSIÓ DEL CONEIXEMENT)\n\n Amb la participació de les organitzacions\, i membres de la DCA\, NTT Data\, WatchGuard Technologies\, Build 38 i Seven Sector \nDe 13.30 h a 15.00 h | BCN Cybersecurity Congress (Hacking Village) \n\n“Networking Event de la comunitat de Ciberseguretat de la DCA”\, amb aperitiu. Exclusiu per a membres de la DCA-Ciberseguretat. (NETWORKING)\n\nDIJOUS 2 DE FEBRER \nDe 8.30 h a 9.30 h | Agència de Ciberseguretat de Catalunya \n\n“Sessió oberta dels grups de treball DCA-Ciberseguretat: Talent and Start-ups i Inversió” (FORMACIÓ I RETENCIÓ DE TALENT)
URL:https://dca.cat/en/esdeveniment/la-dca-al-barcelona-cybersecurity-congress-2023/
LOCATION:Recinte Fira Barcelona Gran Via\, Av. Joan Carles I\, 64\, Hospitalet de Llobregat\, Barcelona\, 08908\, Espanya
CATEGORIES:Cybersecurity
ATTACH;FMTTYPE=image/png:https://dca.cat/wp-content/uploads/2022/12/Ciber_BBC_gener_v4.png
END:VEVENT
BEGIN:VEVENT
DTSTART;TZID=Europe/Madrid:20230201T120000
DTEND;TZID=Europe/Madrid:20230201T124500
DTSTAMP:20260423T152621
CREATED:20230111T065602Z
LAST-MODIFIED:20230126T121154Z
UID:6451-1675252800-1675255500@dca.cat
SUMMARY:Attracting and Retaining Talent in the Cybersecurity Market
DESCRIPTION:Un dels principals desafiaments en el sector de la ciberseguretat és la captació i retenció de talent tecnològic. L’objectiu de la jornada “Attracting and Retaining Talent in the Cybersecurity Market”\, organitzada per la DCA-Ciberseguretat\, és doble. Per una banda\, es debatrà sobre les principals problemàtiques en el reclutament\, contractació i retenció de talent en empreses de ciberseguretat. Per l’altra\, s’analitzaran estratègies d’èxit implementades per a organitzacions amb diferents rols dins del procés de captació i retenció de talent\, sobretot el talent més jove: Fundación Good Job\, ISACA Chapter Barcelona\, Agència de Ciberseguretat de Catalunya\, Universitat Politècnica de Catalunya i Ackcent Cybersecurity. La jornada se celebrarà l’1 de febrer de 12.00 h a 12.45 h a l’Espai Hacking Village del BCN Cybersecurity Congress. \nL’activitat s’adreça a totes les organitzacions interessades en la creació\, captació i retenció de talent\, que podran conèixer de primera mà iniciatives que s’estan duent a terme en aquest àmbit i resoldre in situ dubtes sobre la temàtica. \nLa jornada s’emmarca en el conjunt d’activitats de la DCA-Ciberseguretat organiza en el al Barcelona Cybersecurity Congress\, que se celebra del 31 de gener al 2 de febrer al Recinte Fira Barcelona Gran Via. El Barcelona Cybersecurtiy Congress\, organitzat per l’Agència de Ciberseguretat de Catalunya i Fira Barcelona\, és l’esdeveniment líder en l’àmbit de la ciberseguretat Catalunya i un punt de trobada per compartir i trobar solucions reals a reptes i necessitats del sector.   \nPrograma\n12.00 h – Benvinguda \n\nSra. Angela Lalatta\, responsable de la Comunitat de Ciberseguretat de la DCA\n\n12:05 h –  “Attracting and Retaining Talent in the Cybersecurity Market” \n\nSr. Tomàs Moré\, Responsable de Línia de Servei (RLS) a Servei de cultura de la ciberseguretat a l’Àrea Centre d’Innovació i Competència en Ciberseguretat\nSra. Rosa Ortuño\, vicepresidenta a ISACA Chapter Barcelona\nSr. César López\, director general a la Fundación Good Job\nSr. Manel Medina\, director del Màster en Cybersecurity Management de la UPC School\nSra. Marina Giménez\, Talent Manager a Ackcent Cybersecurity\n\n12:40h – Precs i preguntes \n12:45h – Fi de la jornada
URL:https://dca.cat/en/esdeveniment/attracting-and-retaining-talent-cybersecurity-market/
LOCATION:BARCELONA – GRAN VIA VENUE HALL 4\, Av. Joan Carles I\, 64\,\, Hospitalet de Llobregat\, Barcelona\, 08908
CATEGORIES:Cybersecurity
ATTACH;FMTTYPE=image/png:https://dca.cat/wp-content/uploads/2023/01/17.png
END:VEVENT
BEGIN:VEVENT
DTSTART;TZID=Europe/Madrid:20230201T124500
DTEND;TZID=Europe/Madrid:20230201T133000
DTSTAMP:20260423T152621
CREATED:20230111T071111Z
LAST-MODIFIED:20230126T080054Z
UID:6458-1675255500-1675258200@dca.cat
SUMMARY:Identifying Best Practices in Cybersecurity from Industry Peers
DESCRIPTION:Dins del marc del Barcelona Cybersecurity Congress es presentaran diferents casos d’èxit impulsats per membres de la comunitat de Ciberseguretat de la DCA. La jornada se celebrarà l’1 de febrer de 12.45 h a 13.30 h a l’Espai Hacking Village del BCN Cybersecurity Congress. Els quatre casos d’èxit que es presentaran són projectes i/o col·laboracions en l’entorn de la ciberseguretat amb impacte a escala nacional i/o europea: \n\n“Automated Security Incident Response”\, a càrrec de NTT Data\nL’empresa NTT DATA ha treballat juntament amb una empresa del sector de les telecomunicacions  com les automatitzacions permeten la millora dels temps de resposta i reducció de necessitat de personal per a alertes de baix risc.\n“A success story of technological innovation for inclusiveness and working eGovernment”\, a càrrec de Build38\nLa start-up Build38 presentarà la primera solució d’implementació d’eIDAS (Electronic IDentification\, Authentication and trust Services) en dispositius mòbils. Un software inclòs en l’aplicació Identity que permet un eID intel·ligent amb el qual cada ciutadà de la UE el podrà utilitzar en qualsevol telèfon mòbil i així resoldre un dels principals reptes que té la UE pel que fa als ID electrònics: la participació dels seus ciutadans en els serveis digitals d’administració electrònica. \n“Extended Detection and Incident Response (XDRNet)”\, a càrrec de Seven Sector Technologies\nLa start-up Seven Sector Technologies ha desenvolupat una nova tecnologia sota el model de seguretat Reactiva i Resiliència\, basat en la Detecció Avançada i Resposta Estesa (XDRNET). Això permet detectar amenaces en temps real i aïllar l’equip infectat sense necessitat d’interactuar amb ell. El fet que no sigui necessari instal·lar cap agent fa possible un desplegament ràpid\, econòmic i efectiu.\n“Cybersecurity in distributed environments – Mr. Wonderful case”\, a càrrec de Mr. Wonderful i WatchGuard Technologies\nL’empresa WatchGuard parlarà de com MR.WONDERFUL està gestionant la ciberseguretat en aquests centres\, com es protegeix davant les ciberamenaces i com els Partners de valor com SERCOM CLOUD & SUPPORT\, gràcies a la tecnologia d’un fabricant especialitzat en ciberseguretat: WatchGuard Technologies\, ajuden durant tot aquest procés.\n\nLa jornada s’emmarca en el conjunt d’activitats de la DCA-Ciberseguretat organiza en el al Barcelona Cybersecurity Congress\, que se celebra del 31 de gener al 2 de febrer al Recinte Fira Barcelona Gran Via. El Barcelona Cybersecurtiy Congress\, organitzat per l’Agència de Ciberseguretat de Catalunya i Fira Barcelona\, és l’esdeveniment líder en l’àmbit de la ciberseguretat Catalunya i un punt de trobada per compartir i trobar solucions reals a reptes i necessitats del sector.   \nPrograma\n12:45 h – Benvinguda \n\nSra. Angela Lalatta\, responsable de la comunitat de Ciberseguretat de la DCA\n\n12:50 h – “Automated Security Incident Response” \n\nSr. Javier Portabales\, manager de Ciberseguretat Defensiva a NTT Data\n\n13:00 h – “A success story of technological innovation for inclusiveness and working eGovernment” \n\nSr. Pedro Hernández\, Chief Revenue Officer & Co-Founder a Build38\n\n13:10 h – “Extended Detection and Incident Response (XDRNet)” \n\nSr. Hiram Fernández\, CEO a SevenSector\n\n13:20 h – “Cybersecurity in distributed environments: Mr. Wonderful case” \n\nSr. Daniel Reboredo\, CIO a Mr. Wonderful\nSr. Marc Piqueras\, Channel Account Manager Catalunya a WatchGuard Technologies\nSr. Marc Granados\, director Comercial a Sercom \n\n13:30 h – Fi de la jornada
URL:https://dca.cat/en/esdeveniment/identifying-best-practices-in-cybersecurity-from-industry-peers/
LOCATION:BARCELONA – GRAN VIA VENUE HALL 4\, Av. Joan Carles I\, 64\,\, Hospitalet de Llobregat\, Barcelona\, 08908
CATEGORIES:Cybersecurity
ATTACH;FMTTYPE=image/png:https://dca.cat/wp-content/uploads/2023/01/Casosexit.png
END:VEVENT
BEGIN:VEVENT
DTSTART;TZID=Europe/Madrid:20230201T133000
DTEND;TZID=Europe/Madrid:20230201T150000
DTSTAMP:20260423T152621
CREATED:20230111T071627Z
LAST-MODIFIED:20230111T071800Z
UID:6464-1675258200-1675263600@dca.cat
SUMMARY:Networking Event de la DCA-Ciberseguretat
DESCRIPTION:Dinar de networking adreçat a membres de la comunitat de la DCA-Ciberseguretat. L’objectiu és potenciar la coneixença entre els membres i establir possibles sinergies de present i futur. Aquest és el segon any consecutiu que s’organitza aquest espai de networking en el marc del Barcelona Cybersecurity Congress\, que se celebra del 31 de gener al 2 de febrer al Recinte Fira Barcelona Gran Via. L’activitat està adreçada exclusivament a membres de la DCA-Ciberseguretat\, que que podran obtenir una entrada Expo+Pass per accedir al congrés al inscriure’s a l’activitat. El “Networking Event de la DCA-Ciberseguretat” tindrà lloc l’1 de febrer de 13.30 h a 15.00 h a l’Espai Hacking Village del BCN Cybersecurity Congress. \nEl Barcelona Cybersecurtiy Congress\, organitzat per l’Agència de Ciberseguretat de Catalunya i Fira Barcelona\, és l’esdeveniment líder en l’àmbit de la ciberseguretat Catalunya i un punt de trobada per compartir i trobar solucions reals a reptes i necessitats del sector. 
URL:https://dca.cat/en/esdeveniment/networking-event-dca-ciberseguretat/
LOCATION:BARCELONA – GRAN VIA VENUE HALL 4\, Av. Joan Carles I\, 64\,\, Hospitalet de Llobregat\, Barcelona\, 08908
CATEGORIES:Cybersecurity
ATTACH;FMTTYPE=image/png:https://dca.cat/wp-content/uploads/2023/01/19.png
END:VEVENT
BEGIN:VEVENT
DTSTART;TZID=Europe/Madrid:20230202T083000
DTEND;TZID=Europe/Madrid:20230202T093000
DTSTAMP:20260423T152621
CREATED:20230111T064617Z
LAST-MODIFIED:20230111T065543Z
UID:6445-1675326600-1675330200@dca.cat
SUMMARY:Sessió oberta dels grups de treball de Talent i de Start-ups i d’Inversió
DESCRIPTION:Des de la DCA-Ciberseguretat\, amb la col·laboració de l’Agència de Ciberseguretat de Catalunya\, s’organitzen dues sessions obertes dels quatre grups de treball vinculats al sector de la ciberseguretat: Internacionalització\, Transformació Operativa i Regulatori\, Talent i Start-ups i Inversió. L’objectiu de les sessions és presentar i debatre la proposta de línies d’acció i reptes a treballar de cara al 2023 des de cadascun dels grups de treball per tal de definir un full de ruta compartit i sumar esforços dins de l’ecosistema empresarial del territori. La segona sessió se celebrarà el 2 de febrer de 8.30 h a 9.30 h a l’Agència de Ciberseguretat de Catalunya (Com arribar-hi?) sobre els grups de treball de Talent i de Start-ups i Inversió \nLes sessions s’adreça principalment a membres de la comunitat de Ciberseguretat\, però està oberta a organitzacions del sector amb interès per una o més de les temàtiques dels grups de treball. Tots els membres de la DCA estan convidats a participar activament en l’activitat dels grups de treball i aquestes sessions són una oportunitat per aflorar els interessos de les organitzacions. La jornada culminarà amb un esmorzar de networking.  \nLes dues sessions s’emmarquen en el conjunt d’activitats de la DCA-Ciberseguretat organiza en el al Barcelona Cybersecurity Congress\, que se celebra del 31 de gener al 2 de febrer al Recinte Fira Barcelona Gran Via. El Barcelona Cybersecurtiy Congress\, organitzat per l’Agència de Ciberseguretat de Catalunya i Fira Barcelona\, és l’esdeveniment líder en l’àmbit de la ciberseguretat Catalunya i un punt de trobada per compartir i trobar solucions reals a reptes i necessitats del sector.   \nPrograma\n08.30 h – Benvinguda\n08.35 h – Presentació de les principals verticals i temàtiques d’interès 2023\n09.00 h – Selecció i validació de les temàtiques d’interès\n09.15 h – Presentació del calendari 2023 i metodologia de funcionament\n09.20 h – Precs i preguntes\n09.30 h – Tancament i esmorzar de networking
URL:https://dca.cat/en/esdeveniment/sessio-oberta-grups-treball-talent-start-ups-inversio/
LOCATION:Agència de Ciberseguretat de Catalunya\, C. de Salvador Espriu\, 45\, Hospitalet de Llobregat\, Barcelona\, 08908\, Espanya
CATEGORIES:Cybersecurity
ATTACH;FMTTYPE=image/png:https://dca.cat/wp-content/uploads/2023/01/GrupTreball2.png
END:VEVENT
END:VCALENDAR