BEGIN:VCALENDAR
VERSION:2.0
PRODID:-//DCA - ECPv6.15.17.1//NONSGML v1.0//EN
CALSCALE:GREGORIAN
METHOD:PUBLISH
X-ORIGINAL-URL:https://dca.cat/en/
X-WR-CALDESC:Events for DCA
REFRESH-INTERVAL;VALUE=DURATION:PT1H
X-Robots-Tag:noindex
X-PUBLISHED-TTL:PT1H
BEGIN:VTIMEZONE
TZID:Europe/Madrid
BEGIN:DAYLIGHT
TZOFFSETFROM:+0100
TZOFFSETTO:+0200
TZNAME:CEST
DTSTART:20210328T010000
END:DAYLIGHT
BEGIN:STANDARD
TZOFFSETFROM:+0200
TZOFFSETTO:+0100
TZNAME:CET
DTSTART:20211031T010000
END:STANDARD
BEGIN:DAYLIGHT
TZOFFSETFROM:+0100
TZOFFSETTO:+0200
TZNAME:CEST
DTSTART:20220327T010000
END:DAYLIGHT
BEGIN:STANDARD
TZOFFSETFROM:+0200
TZOFFSETTO:+0100
TZNAME:CET
DTSTART:20221030T010000
END:STANDARD
BEGIN:DAYLIGHT
TZOFFSETFROM:+0100
TZOFFSETTO:+0200
TZNAME:CEST
DTSTART:20230326T010000
END:DAYLIGHT
BEGIN:STANDARD
TZOFFSETFROM:+0200
TZOFFSETTO:+0100
TZNAME:CET
DTSTART:20231029T010000
END:STANDARD
END:VTIMEZONE
BEGIN:VEVENT
DTSTART;TZID=Europe/Madrid:20220923T120000
DTEND;TZID=Europe/Madrid:20220923T140000
DTSTAMP:20260423T215617
CREATED:20220920T130836Z
LAST-MODIFIED:20220920T133809Z
UID:5794-1663934400-1663941600@dca.cat
SUMMARY:Jornada de diàleg amb el sector de la ciberseguretat
DESCRIPTION:La DCA-Ciberseguretat\, amb la col·laboració de l’Agència de Ciberseguretat de Catalunya\, organitza una trobada amb empreses del sector per informar-les i debatre sobre projectes d’interès. La jornada\, en format presencial\, se celebra divendres 23 de setembre de 12 a 14 hores al C. de Salvador Espriu\, 45 a L’Hospitalet de Llobregat (Com arribar-hi?). Es convida els membres de la DCA-Ciberseguretat a participar-hi\, així com empreses del sector. Els principals projectes d’interès són: \n1) Proposta per a la convocatòria pública del programa RETECH\nDins del marc del Pla de Recuperació\, Transformació i Resiliència\, s’ha convidat les comunitats autònomes a participar en la convocatòria pública per enviar una proposta al programa RETECH (Redes Territoriales de Especialización Tecnológica)\, que articularà diversos projectes regionals orientats a la transformació i especialització digital. Les organitzacions en l’àmbit de la ciberseguretat podran conèixer la iniciativa i fer aportacions a la proposta que presentarà l’Agència de Ciberseguretat de Catalunya. \n2) Resultats 2019-2022 i Estratègia de Ciberseguretat 2023-2030\nDurant la jornada també s’avaluarà l’Estratègia de Ciberseguretat de la Generalitat 2019-2022. Com a part de la col·laboració i cooperació amb el sector\, es convida les empreses a fer les aportacions que enriqueixin l’Estratègia de Ciberseguretat de la Generalitat de Catalunya per al període 2023-2030.
URL:https://dca.cat/en/esdeveniment/jornada-de-dialeg-amb-el-sector-de-la-ciberseguretat/
LOCATION:C/ de Salvador Espriu\, 45. L’Hospitalet de Llobregat\, Carrer de Salvador Espriu\, 45\, L'Hospital de Llobregat\, Barcelona\, 08908\, Espanya
CATEGORIES:Cybersecurity
ATTACH;FMTTYPE=image/png:https://dca.cat/wp-content/uploads/2022/09/Ciber2309_Imatge.png
END:VEVENT
END:VCALENDAR