BEGIN:VCALENDAR
VERSION:2.0
PRODID:-//DCA - ECPv6.15.17.1//NONSGML v1.0//EN
CALSCALE:GREGORIAN
METHOD:PUBLISH
X-WR-CALNAME:DCA
X-ORIGINAL-URL:https://dca.cat/en/
X-WR-CALDESC:Events for DCA
REFRESH-INTERVAL;VALUE=DURATION:PT1H
X-Robots-Tag:noindex
X-PUBLISHED-TTL:PT1H
BEGIN:VTIMEZONE
TZID:Europe/Madrid
BEGIN:DAYLIGHT
TZOFFSETFROM:+0100
TZOFFSETTO:+0200
TZNAME:CEST
DTSTART:20210328T010000
END:DAYLIGHT
BEGIN:STANDARD
TZOFFSETFROM:+0200
TZOFFSETTO:+0100
TZNAME:CET
DTSTART:20211031T010000
END:STANDARD
BEGIN:DAYLIGHT
TZOFFSETFROM:+0100
TZOFFSETTO:+0200
TZNAME:CEST
DTSTART:20220327T010000
END:DAYLIGHT
BEGIN:STANDARD
TZOFFSETFROM:+0200
TZOFFSETTO:+0100
TZNAME:CET
DTSTART:20221030T010000
END:STANDARD
BEGIN:DAYLIGHT
TZOFFSETFROM:+0100
TZOFFSETTO:+0200
TZNAME:CEST
DTSTART:20230326T010000
END:DAYLIGHT
BEGIN:STANDARD
TZOFFSETFROM:+0200
TZOFFSETTO:+0100
TZNAME:CET
DTSTART:20231029T010000
END:STANDARD
END:VTIMEZONE
BEGIN:VEVENT
DTSTART;TZID=Europe/Madrid:20220511T100000
DTEND;TZID=Europe/Madrid:20220511T170000
DTSTAMP:20260424T030334
CREATED:20220505T164509Z
LAST-MODIFIED:20220509T082218Z
UID:4507-1652263200-1652288400@dca.cat
SUMMARY:La DCA\, dins dels congressos IOTSWC i BCN Cybersecurity Congress
DESCRIPTION:La comunitat de DCA-Ciberseguretat\, juntament amb l’Agència de Ciberseguretat de Catalunya\, organitzen diferents activitats el dimecres 11 de maig en el marc dels congressos IOT Solutions Wolrd Congress i BCN Cybersecurity Congress\, que se celebren al Recinte Fira Barcelona Gran Via del 10 al 12 de maig. \nPer participar en les diferents activitats no cal inscripció prèvia\, però sí que és necessari disposar d’entrada per accedir als congressos. Des de la DCA s’ofereixen entrades EXPO Plus per als dies 10\, 11 i 12 a membres de la comunitat de Ciberseguretat. En cas de no disposar d’entrada\, contacta amb la Comunitat de Ciberseguretat a l’adreça de correu electrònic ciberseguretat@dca.cat. \nPrograma\n Estand de la Generalitat de Catalunya al IoT Congress (Hall 4 C321)\n10:00 h – 10.30 h Presentació de l’Informe de Tendències en Ciberseguretat 2022\n(Activitat organitzada per l’Agència de Ciberseguretat de Catalunya i ACCIÓ) \n\nSr. Tomàs Roy\, director de l’Àrea Centre d’Innovació i Competència en Ciberseguretat a l’Agència de Ciberseguretat de Catalunya\nSra. Inma Rodriguez Lopez\, market intelligence manager – Strategy & Competitive Intelligence Unit a ACCIÓ\n\n10:30 h – 10.55 h Presentació de l’Índex en ciberseguretat. Mesura del nivell global de desenvolupament de la ciberseguretat \n\nSr. Santi Romeu\, responsable de Ciència i Analítica de Dades a l’Agència de Ciberseguretat de Catalunya\n\nEspai Garden\n13.30 h – 15.00 h Primera trobada de la DCA-Ciberseguretat: networking amb aperitiu\nActivitat patrocinada per l’Agència de Ciberseguretat de Catalunya i reservada a membres de la DCA-Ciberseguretat i de l’Agència de Ciberseguretat de Catalunya.\n✍🏼 Amb inscripció prèvia. Si ets membre de la DCA i vols participar-hi\, contacta amb la Comunitat de Ciberseguretat a l’adreça de correu electrònic ciberseguretat@dca.cat. \nEstand de la Generalitat de Catalunya al IoT Congress (Hall 4 C321)\n15:30 h – 16.00 h Taula rodona de talent en ciberseguretat (DCA): generació\, captació i retenció de talent de Ciberseguretat \n\nSr. Tomàs Moré\, responsable de Formació i Conscienciació a l’Agència de Ciberseguretat de Catalunya\nSra. Rosa Ortuño\, membre junta d’ISACA\, CEO d’OptimumTIC i Presidenta CATEI\nSr. Lluís Vera\, CEO d’Ackcent\nSra. Cristina Serrano\, Human Resources Manager a Build38\nModerada per Manel Medina\, UPC/DIH4CAT i corresponsable del grup de Talent en Ciberseguretat de la DCA\n\nEspai Hacking Village\n16.00 h – 17.00 h Workshops \nWorkshop: Oportunitats del 5G en ciberseguretat \n\nSr. Shuaib Siddiqui\, cybersecurity research lead a la Fundació i2CAT\n\nWorkshop: Kit Digital – paquets de serveis en ciberseguretat: \n\nSr. Pau Castillo\, assessor de transformació digital d’Acelera Pyme\n\nPots consultar el programa d’activitats del Barcelona Cybersecurity Congress aquí.
URL:https://dca.cat/en/esdeveniment/dca-dins-congressos-iotswc-bcn-cybersecurity-congress/
LOCATION:Recinte Fira Barcelona Gran Via\, Av. Joan Carles I\, 64\, Hospitalet de Llobregat\, Barcelona\, 08908\, Espanya
CATEGORIES:Cybersecurity
ATTACH;FMTTYPE=image/png:https://dca.cat/wp-content/uploads/2022/05/Portada-Eventbrite.png
END:VEVENT
END:VCALENDAR