BEGIN:VCALENDAR
VERSION:2.0
PRODID:-//DCA - ECPv6.15.17.1//NONSGML v1.0//EN
CALSCALE:GREGORIAN
METHOD:PUBLISH
X-WR-CALNAME:DCA
X-ORIGINAL-URL:https://dca.cat/ca/
X-WR-CALDESC:Esdeveniments per DCA
REFRESH-INTERVAL;VALUE=DURATION:PT1H
X-Robots-Tag:noindex
X-PUBLISHED-TTL:PT1H
BEGIN:VTIMEZONE
TZID:Europe/Madrid
BEGIN:DAYLIGHT
TZOFFSETFROM:+0100
TZOFFSETTO:+0200
TZNAME:CEST
DTSTART:20230326T010000
END:DAYLIGHT
BEGIN:STANDARD
TZOFFSETFROM:+0200
TZOFFSETTO:+0100
TZNAME:CET
DTSTART:20231029T010000
END:STANDARD
BEGIN:DAYLIGHT
TZOFFSETFROM:+0100
TZOFFSETTO:+0200
TZNAME:CEST
DTSTART:20240331T010000
END:DAYLIGHT
BEGIN:STANDARD
TZOFFSETFROM:+0200
TZOFFSETTO:+0100
TZNAME:CET
DTSTART:20241027T010000
END:STANDARD
BEGIN:DAYLIGHT
TZOFFSETFROM:+0100
TZOFFSETTO:+0200
TZNAME:CEST
DTSTART:20250330T010000
END:DAYLIGHT
BEGIN:STANDARD
TZOFFSETFROM:+0200
TZOFFSETTO:+0100
TZNAME:CET
DTSTART:20251026T010000
END:STANDARD
END:VTIMEZONE
BEGIN:VEVENT
DTSTART;TZID=Europe/Madrid:20240418T093000
DTEND;TZID=Europe/Madrid:20240418T133000
DTSTAMP:20260420T143223
CREATED:20240313T083028Z
LAST-MODIFIED:20240404T094428Z
UID:8879-1713432600-1713447000@dca.cat
SUMMARY:Jornada anual de la DCA Drons
DESCRIPTION:La comunitat de Drons de la Digital Catalonia Alliance (DCA) convida els seus membres i col·laboradors a la seva jornada anual\, que se celebrarà presencialment el pròxim 18 d’abril\, de 9.30 h a 13.30 h a l’aula magna de formacions de l’Aeroclub Barcelona-Sabadell\, ubicat a l’Aeroport de Sabadell. \nDurant la sessió es presentaran el balanç de l’activitat de la DCA-Drons durant el 2023 i les línies de treball d’enguany. A més\, els assistents tindran l’ocasió d’aprofundir en les novetats i tendències del sector UAS per al desplegament de l’estratègia europea de drons a Catalunya\, i dels serveis U-Space de la mà de professionals d’administracions i organitzacions que estan liderant el canvi desenvolupant projectes per impulsar el sector i assolir majors oportunitats. \nTambé es donaran a conèixer les recomanacions del Dictamen “A Drone Strategy 2.0” per a maximitzar l’èxit del desplegament de l’estratègia europea de drons a les regions europees.\nFinalment\, la trobada clourà amb un aperitiu de networking per promoure les sinergies entre membres i col·laboradors de la DCA-Drons. Aquest aperitiu tindrà lloc a la Gran sala social de l’Aeroclub Barcelona-Sabadell. \nLa jornada anual de la DCA-Drons comptarà amb una visita guiada\, en grups reduïts\, a diferents equipaments i instal·lacions de l’Aeroclub Barcelona-Sabadell ubicats a l’Aeroport de Sabadell. \nPrograma\n09.00 h – Acreditació i entrada a la sala \n09.30 h – Benvinguda \n09.45 h – DCA-Drons: balanç de l’activitat i línies d’acció per al 2024 \n\nCristina Ramos\, responsable de la comunitat de Drons de la Digital Catalonia Alliance\n\n10.00 h – Dictamen “Una estratègia 2.0 per als drons” (ponència en polonès amb traducció simultània a anglès) \n\nWładysław Ortyl\, president de la regió de Podkarpackie (Polònia)\, membre del Comitè Europeu de les Regions (CoR) i promotor del dictamen “A Drone Strategy 2.0”\n\n10.20 – Desplegament del U-Space: metodologia d’avaluació del risc i plataforma de coordinació d’operacions \n\nEnric Pastor\, investigador\, ICARUS Research Group\, Universitat Politècnica de Catalunya (UPC)\n\n10.40 h Pausa \n10.50 h  – Taula rodona: El desplegament de l’estratègia europea de drons a Catalunya \n\nRafael Cáliz\, responsable de les coordinacions UAS\, Servei d’Emergències Mèdiques (SEM)\n\n\nNúria Abdon\, responsable d’Atenció Digital Personalitzada\, Fundació TIC Salut Social\n\n\nAntoni Serra\, director de l’aeroport de Lleida-Alguaire\, Aeroports de Catalunya\n\nModera: Elisabeth Jordà\, directora d’estratègia i innovació\, Parc Mediterrani de la Tecnologia (PMT-UPC) \n11.30 h – Cloenda \n11.45 h – Networking \n13.30 h – Fi de la jornada
URL:https://dca.cat/ca/esdeveniment/jornada-anual-de-la-dca-drons-2024/
CATEGORIES:Drons
ATTACH;FMTTYPE=image/png:https://dca.cat/wp-content/uploads/2024/03/Activitats-DCA-Drons-min.png
END:VEVENT
END:VCALENDAR