BEGIN:VCALENDAR
VERSION:2.0
PRODID:-//DCA - ECPv6.15.17.1//NONSGML v1.0//EN
CALSCALE:GREGORIAN
METHOD:PUBLISH
X-WR-CALNAME:DCA
X-ORIGINAL-URL:https://dca.cat/ca/
X-WR-CALDESC:Esdeveniments per DCA
REFRESH-INTERVAL;VALUE=DURATION:PT1H
X-Robots-Tag:noindex
X-PUBLISHED-TTL:PT1H
BEGIN:VTIMEZONE
TZID:Europe/Madrid
BEGIN:DAYLIGHT
TZOFFSETFROM:+0100
TZOFFSETTO:+0200
TZNAME:CEST
DTSTART:20210328T010000
END:DAYLIGHT
BEGIN:STANDARD
TZOFFSETFROM:+0200
TZOFFSETTO:+0100
TZNAME:CET
DTSTART:20211031T010000
END:STANDARD
BEGIN:DAYLIGHT
TZOFFSETFROM:+0100
TZOFFSETTO:+0200
TZNAME:CEST
DTSTART:20220327T010000
END:DAYLIGHT
BEGIN:STANDARD
TZOFFSETFROM:+0200
TZOFFSETTO:+0100
TZNAME:CET
DTSTART:20221030T010000
END:STANDARD
BEGIN:DAYLIGHT
TZOFFSETFROM:+0100
TZOFFSETTO:+0200
TZNAME:CEST
DTSTART:20230326T010000
END:DAYLIGHT
BEGIN:STANDARD
TZOFFSETFROM:+0200
TZOFFSETTO:+0100
TZNAME:CET
DTSTART:20231029T010000
END:STANDARD
END:VTIMEZONE
BEGIN:VEVENT
DTSTART;TZID=Europe/Madrid:20220915T160000
DTEND;TZID=Europe/Madrid:20220915T170000
DTSTAMP:20260424T015634
CREATED:20220719T093904Z
LAST-MODIFIED:20220719T093904Z
UID:4956-1663257600-1663261200@dca.cat
SUMMARY:Cafè&IoT La IoT i el seu impacte en el medi ambient i la sostenibilitat
DESCRIPTION:Pot la Internet de les Coses tenir un impacte positiu en el medi ambient? \nEn aquesta nova edició del Cafè&IoT conversarem amb Bernardo Campillo\, cap d’Industry Partnerhips a Telefónica IoT & BigData Tech. Amb ell parlaren sobre com els nous paradigmes tecnològics com la IoT\, el BigData o la Intel·ligència Artificial poden combinar-se amb solucions de sostenibilitat d’una forma potent i eficaç en tots els nivells de la cadena de valor de les diferents empreses i administracions que promouen aquest tipus d’objectius. \nSegons Campillo\, la combinació de sensors físics\, la capacitat de mesurar i actuar sobre diferents mecanismes\, així com la possibilitat d’anticipar problemes o ineficiències ens situa en una immillorable posició per assolir un planeta més verd i sostenible. \nLa sessió se celebrarà el 15 de setembre\, de 16 h a 17 h\, en format virtual (Zoom). L’activitat està adreçada als membres de la comunitat d’IoT de la Digital Catalonia Alliance (DCA). \n\n\n\n\nPrograma\n16.00 h Benvinguda \n\nSr. Jordi Daura\, responsable de la comunitat d’Internet de les Coses de la Digital Catalonia Alliance (DCA)\n\n16.10 h Cafè&IoT: La IoT i el seu impacte en el medi ambient i la sostenibilitat \n\nSr. Bernardo Campillo\, cap d’Industry Partnerhips a Telefónica IoT & BigData Tech\n\n\nSr. Jordi Daura\, responsable de la comunitat d’Internet de les Coses de la Digital Catalonia Alliance (DCA)\n\n16:45 h Torn obert de preguntes
URL:https://dca.cat/ca/esdeveniment/cafeiot-la-iot-i-el-seu-impacte-en-el-medi-ambient-i-la-sostenibilitat/
CATEGORIES:IoT
ATTACH;FMTTYPE=image/png:https://dca.cat/wp-content/uploads/2022/07/Imatge-CAFEIOT.png
END:VEVENT
END:VCALENDAR