BEGIN:VCALENDAR
VERSION:2.0
PRODID:-//DCA - ECPv6.15.17.1//NONSGML v1.0//EN
CALSCALE:GREGORIAN
METHOD:PUBLISH
X-ORIGINAL-URL:https://dca.cat/ca/
X-WR-CALDESC:Esdeveniments per DCA
REFRESH-INTERVAL;VALUE=DURATION:PT1H
X-Robots-Tag:noindex
X-PUBLISHED-TTL:PT1H
BEGIN:VTIMEZONE
TZID:Europe/Madrid
BEGIN:DAYLIGHT
TZOFFSETFROM:+0100
TZOFFSETTO:+0200
TZNAME:CEST
DTSTART:20250330T010000
END:DAYLIGHT
BEGIN:STANDARD
TZOFFSETFROM:+0200
TZOFFSETTO:+0100
TZNAME:CET
DTSTART:20251026T010000
END:STANDARD
BEGIN:DAYLIGHT
TZOFFSETFROM:+0100
TZOFFSETTO:+0200
TZNAME:CEST
DTSTART:20260329T010000
END:DAYLIGHT
BEGIN:STANDARD
TZOFFSETFROM:+0200
TZOFFSETTO:+0100
TZNAME:CET
DTSTART:20261025T010000
END:STANDARD
BEGIN:DAYLIGHT
TZOFFSETFROM:+0100
TZOFFSETTO:+0200
TZNAME:CEST
DTSTART:20270328T010000
END:DAYLIGHT
BEGIN:STANDARD
TZOFFSETFROM:+0200
TZOFFSETTO:+0100
TZNAME:CET
DTSTART:20271031T010000
END:STANDARD
END:VTIMEZONE
BEGIN:VEVENT
DTSTART;TZID=Europe/Madrid:20260505T093000
DTEND;TZID=Europe/Madrid:20260505T143000
DTSTAMP:20260421T144353
CREATED:20260421T090814Z
LAST-MODIFIED:20260421T090814Z
UID:13519-1777973400-1777991400@dca.cat
SUMMARY:Horizon Europe Infoday Convocatòries 2026: Cluster 4 (Espai)
DESCRIPTION:En aquesta sessió híbrida podràs conèixer de primera mà el programa i les convocatòries 2026 del Cluster 4 – Espai. També podràs aprofundir en quins són els serveis de suport que ofereix ACCIÓ per acompanyar-te\, així com descobrir com participar amb èxit en projectes d’Horizon Europe d’Espai en una taula rodona moderada per la Digital Catalonia Alliance (DCA)-Espai\, amb entitats catalanes referents que compartiran experiències i factors clau per entendre el valor\, les oportunitats i els reptes d’aquesta participació col·laborativa. \n\n\nSi ja estàs preparant una proposta per presentar a alguna d’aquestes convocatòries i vols augmentar les teves probabilitats d’èxit al programa\, en inscriure’t a la sessió podràs sol·licitar una entrevista individualitzada amb la NCP (National Contact Point) de les temàtiques i ACCIÓ. Et donarem feedback per presentar una proposta guanyadora! \nSi en canvi\, no has participat mai en aquest tipus de convocatòries i vols saber com fer-ho\, t’explicarem els serveis de suport que ofereix ACCIÓ per acompanyar-te. \nA més\, podràs aprofitar la sessió per fer networking amb agents de l’ecosistema català interessats en Horizon Europe i altres programes europeus per a la RDI de les temàtiques que tractarem. \n\nPots visualitzar les convocatòries 2026 del Programa del treball Cluster 4 Espai (document .PDF).\n\n\nPrograma\n9.30 h – Benvinguda \n\nAna Simón\, Mànager d’Innovació Oberta i Disruptiva d’ACCIÓ\n\n9.35 h – Servei de Programes Europeus d’RDI d’ACCIÓ \n\nIago Garcia Hordley\, Consultor Sènior de Programes Europeus d’RDI d’ACCIÓ\n\n10.00 h – Construint xarxes entre Catalunya i Europa en els àmbits de l’Espai i els Semiconductors \n\nVerónica Tercero\, Coordinadora de l’estratègia d’Espai de la Generalitat de Catalunya\nRoger Costa\, Coordinador de l’àmbit estratègic dels Semiconductors d’ACCIÓ\n\n10.20 h – Pausa: Cafè networking \n10.50 h – Convocatòries 2026 Cluster 4-Espai de Horizon Europe \n\nAndrea Pérez-Carro\, Punt Nacional de Contacte del CDTI\n\n11.50 h – Taula rodona d’entitats participants en projectes de Cluster 4-Espai \n12.20 h – Tancament \n\nJennifer Ruiz\, Líder d’Equip de Programes Europeus d’RDI d’ACCIÓ\n\n12.30 h – Revisió d’idees de proposta
URL:https://dca.cat/ca/esdeveniment/horizon-europe-infoday-convocatories-2026-cluster-4-espai/
CATEGORIES:Espai
ATTACH;FMTTYPE=image/jpeg:https://dca.cat/wp-content/uploads/2025/12/IMG_5623-scaled.jpg
END:VEVENT
END:VCALENDAR