BEGIN:VCALENDAR
VERSION:2.0
PRODID:-//DCA - ECPv6.15.17.1//NONSGML v1.0//EN
CALSCALE:GREGORIAN
METHOD:PUBLISH
X-WR-CALNAME:DCA
X-ORIGINAL-URL:https://dca.cat/ca/
X-WR-CALDESC:Esdeveniments per DCA
REFRESH-INTERVAL;VALUE=DURATION:PT1H
X-Robots-Tag:noindex
X-PUBLISHED-TTL:PT1H
BEGIN:VTIMEZONE
TZID:Europe/Madrid
BEGIN:DAYLIGHT
TZOFFSETFROM:+0100
TZOFFSETTO:+0200
TZNAME:CEST
DTSTART:20230326T010000
END:DAYLIGHT
BEGIN:STANDARD
TZOFFSETFROM:+0200
TZOFFSETTO:+0100
TZNAME:CET
DTSTART:20231029T010000
END:STANDARD
BEGIN:DAYLIGHT
TZOFFSETFROM:+0100
TZOFFSETTO:+0200
TZNAME:CEST
DTSTART:20240331T010000
END:DAYLIGHT
BEGIN:STANDARD
TZOFFSETFROM:+0200
TZOFFSETTO:+0100
TZNAME:CET
DTSTART:20241027T010000
END:STANDARD
BEGIN:DAYLIGHT
TZOFFSETFROM:+0100
TZOFFSETTO:+0200
TZNAME:CEST
DTSTART:20250330T010000
END:DAYLIGHT
BEGIN:STANDARD
TZOFFSETFROM:+0200
TZOFFSETTO:+0100
TZNAME:CET
DTSTART:20251026T010000
END:STANDARD
END:VTIMEZONE
BEGIN:VEVENT
DTSTART;TZID=Europe/Madrid:20241210T100000
DTEND;TZID=Europe/Madrid:20241210T111500
DTSTAMP:20260422T132316
CREATED:20241204T130246Z
LAST-MODIFIED:20241211T075038Z
UID:10123-1733824800-1733829300@dca.cat
SUMMARY:ESA Phi-LabNET Spain: primera convocatòria per al finançament de projectes
DESCRIPTION:La Digital Catalonia Alliance (DCA)\, una iniciativa impulsada per la Generalitat de Catalunya a través de la Secretaria de Polítiques Digitals del Departament d’Empresa i Treball i i2CAT\, organitza\, amb la col·laboració de l’Institut d’Estudis Espacials de Catalunya (IEEC)\, un acte en línia de presentació de l’ESA Phi-LabNET Spain i la seva primera convocatòria de finançament de projectes. \nEl webinar se celebrarà el dimarts\, 10 de desembre\, de 10.00 a 11.15 h\, i s’hi presentarà el projecte\, s’explicarà el funcionament de les convocatòries de finançament i es resoldran els dubtes dels assistents. \nL’ESA Phi-LabNET Spain és el centre de competència ubicat a Barcelona per impulsar la innovació per a la comercialització de tecnologies espacials a l’àmbit de la resiliència climàtica. Aquesta nova infraestructura s’emmarca dins el Programa ScaleUp de l’Agència Espacial Europea (ESA)\, i està coordinat per l’Institut d’Estudis Espacials de Catalunya (IEEC)\, com a líder d’un consorci format per i2CAT\, l’Institut Cartogràfic i Geològic de Catalunya (ICGC)\, la Fundación General CSIC\, la Fundació KIMbcn\, ARRIBES Enlightenment\, la Universitat de València (UVEG)\, la Universitat Politècnica de Catalunya (UPC)\, el Barcelona Supercomputing Centre (BSC-CNS)\, l’Institut Ricardo Valle d’Innovación (IRV)\, la Planta pilot de l’ESA MELiSSA\, ubicada en la Universitat Autònoma de Barcelona (UAB)\, i l’Institut de Ciències Fotòniques (ICFO). \nL’ESA Phi-LabNET Spain\, ubicat a l’edifici RDIT del Parc Mediterrani de la Tecnologia de Castelldefels (Barcelona)\, seu de l’IEEC i de l’ESA-BIC Barcelona\, donarà suport a projectes innovadors i disruptius mitjançant convocatòries dirigides pel consorci guanyador de la proposta. \nL’ESA Phi-LabNET Spain també compta amb el suport de l’Agència Espacial Espanyola (AEE) i la Generalitat de Catalunya. \nPrograma\nPresentació i benvinguda \n\nJosep Colomé\, director de l’Àrea de Promoció del Sector Espacial a Catalunya de l’IEEC\n\nSCALE UP. L’Ecosistema d’emprenedoria i innovació de l’ESA \n\nNuria Hernández\, Technology Transfer Officer de l’ESA\n\nESA Phi-Lab NET Spain \n\nPepa Sedó\, cap de Desenvolupament i Innovació de l’IEEC\n\n1ª Convocatòria de finançament \n\nRepresentant d’Arribes Enlightenment\n\nConsultes dels assistents \nPresenta i modera el webinar: Rosa Maria Meseguer\, gestora de la DCA-NewSpace
URL:https://dca.cat/ca/esdeveniment/presentacio-esa-phi-lab-spain/
CATEGORIES:Espai
ATTACH;FMTTYPE=image/png:https://dca.cat/wp-content/uploads/2024/12/241210_Philab_webinar_CA.png
END:VEVENT
BEGIN:VEVENT
DTSTART;TZID=Europe/Madrid:20241223T160000
DTEND;TZID=Europe/Madrid:20241223T180000
DTSTAMP:20260422T132316
CREATED:20240726T115302Z
LAST-MODIFIED:20241217T090940Z
UID:9603-1734969600-1734976800@dca.cat
SUMMARY:Net de Networks 2024
DESCRIPTION:La comunitat de NewSpace de la Digital Catalonia Alliance (DCA) convida els seus membres a la segona edició de Net de Networks\, la trobada internacional de professionals del NewSpace residents a Catalunya i a l’estranger. \nAmb aquesta activitat\, la DCA vol facilitar un espai de trobada entre els professionals que treballen dins i fora de Catalunya\, facilitant així noves connexions internacionals i ampliar la xarxa de contactes professionals. \nLa jornada comptarà amb una taula rodona sobre el potencial de les xarxes locals\, globals i sectorials per a la generació de noves oportunitats de negoci i l’intercanvi d’informació i punts de vista. \nEls membres de la DCA poden convidar-hi els seus contactes professionals del sector per compartir plegats els desafiaments i oportunitats que ofereix el NewSpace i fomentar la interrelació entre professionals catalans d’arreu del món en el networking de cloenda. \nLa jornada se celebrarà el dilluns 23 de desembre\, de 15:30 h a 18:00 h\, a la seu d’i2CAT (Sala Ada Lovelace 1 i 2) situades a l’edifici Nexus (C. del Gran Capità\, 2\, Barcelona). \nPrograma\n15.30 h – Acreditacions \n16.00 h – Benvinguda \n\nRosa Maria Meseguer\, gestora de la DCA-NewSpace\n\n16.05 h – Impuls de l’ecosistema espacial català des de l’Estratègia NewSpace de Catalunya \n\nVerónica Tercero\, coordinadora de l’Estratègia Newspace de la Generalitat de Catalunya\nJosep Colomé\, director de l’Àrea de Promoció del Sector Espacial a Catalunya de l’IEEC\n\n16.20 h – Taula rodona “Net de Networks: el potencial de les xarxes de contacte” \n\nPere Roca\, secretari del Col·legi d’Enginyers Industrials. Director Tècnic d’Airbus DS Geo SGSA\nLaura Samsó\, colíder de SOMOS Network\, membre de la junta de Airbus Women Network i cocreadora del Club Airbus Toastmasters a Ottobrunn (Alemanya). Airbus Defense & Space\nAna Fernández\, directora de Relacions Institucionals d’Ellas Vuelan Alto. Consultora independent especialitzada en estratègia reputacional corporativa\n\n17.00 h – Espai de networking \n18.00 h – Final del l’acte
URL:https://dca.cat/ca/esdeveniment/net-de-networks-2/
CATEGORIES:Espai
ATTACH;FMTTYPE=image/jpeg:https://dca.cat/wp-content/uploads/2024/07/Net-de-networks-2024.jpg
END:VEVENT
END:VCALENDAR