BEGIN:VCALENDAR
VERSION:2.0
PRODID:-//DCA - ECPv6.15.17.1//NONSGML v1.0//EN
CALSCALE:GREGORIAN
METHOD:PUBLISH
X-WR-CALNAME:DCA
X-ORIGINAL-URL:https://dca.cat/ca/
X-WR-CALDESC:Esdeveniments per DCA
REFRESH-INTERVAL;VALUE=DURATION:PT1H
X-Robots-Tag:noindex
X-PUBLISHED-TTL:PT1H
BEGIN:VTIMEZONE
TZID:Europe/Madrid
BEGIN:DAYLIGHT
TZOFFSETFROM:+0100
TZOFFSETTO:+0200
TZNAME:CEST
DTSTART:20220327T010000
END:DAYLIGHT
BEGIN:STANDARD
TZOFFSETFROM:+0200
TZOFFSETTO:+0100
TZNAME:CET
DTSTART:20221030T010000
END:STANDARD
BEGIN:DAYLIGHT
TZOFFSETFROM:+0100
TZOFFSETTO:+0200
TZNAME:CEST
DTSTART:20230326T010000
END:DAYLIGHT
BEGIN:STANDARD
TZOFFSETFROM:+0200
TZOFFSETTO:+0100
TZNAME:CET
DTSTART:20231029T010000
END:STANDARD
BEGIN:DAYLIGHT
TZOFFSETFROM:+0100
TZOFFSETTO:+0200
TZNAME:CEST
DTSTART:20240331T010000
END:DAYLIGHT
BEGIN:STANDARD
TZOFFSETFROM:+0200
TZOFFSETTO:+0100
TZNAME:CET
DTSTART:20241027T010000
END:STANDARD
END:VTIMEZONE
BEGIN:VEVENT
DTSTART;TZID=Europe/Madrid:20230608T110000
DTEND;TZID=Europe/Madrid:20230608T140000
DTSTAMP:20260423T145214
CREATED:20230425T082959Z
LAST-MODIFIED:20230530T142145Z
UID:7148-1686222000-1686232800@dca.cat
SUMMARY:Jornada anual de la comunitat DCA-NewSpace
DESCRIPTION:La comunitat de NewSpace de la Digital Catalonia Alliance (DCA) convida els seus membres i organitzacions col·laboradores a la seva primera jornada anual\, que se celebra presencialment el pròxim 8 de juny\, d’11 h a 14 h\, al CCCB.  \nEn la primera part de la jornada\, es presentarà la situació actual de la DCA-NewSpace i les línies de treball de l’Estratègia NewSpace de Catalunya. La segona part se centrarà a debatre sobre oportunitats de finançament públic i privat en el sector\, de la mà de professionals de l’administració pública i l’entorn privat i també d’experiències d’empreses destacades del sector. \nFinalment\, la trobada clourà amb un aperitiu de networking per promoure les sinergies entre membres i col·laboradors de la DCA-NewSpace\, així com oferir la possibilitat d’interactuar amb l’equip de ponents que participen en la jornada.  \nEl principal objectiu de la jornada és acostar l’Estratègia NewSpace de Catalunya als membres de la Comunitat\, així com fomentar el networking entre els principals agents de l’ecosistema del NewSpace. \nPrograma de la sessió\n10.30 h – Recepció d’assistents \n11.00 h – Benvinguda institucional \n\nSr. Lluís Juncà\, director general d’Innovació\, Economia Digital i Emprenedoria a la Generalitat de Catalunya\n\n11.05 h – DCA-Newspace: balanç de la Comunitat en el primer any d’activitat \n\nSra. Rosa Maria Meseguer\, responsable de comunitat de NewSpace de la Digital Catalonia Alliance (DCA)\n\n11.10 h – Presentació de l’Estratègia NewSpace de la Generalitat de Catalunya \n\nSra. Verónica Tercero\, coordinadora de l’Estratègia Newspace de Catalunya a la Generalitat de Catalunya\nSr. Josep Colomé\, director de l’Àrea de Promoció del Sector Espacial de Catalunya (APEC) a l’Institut d’Estudis Espacials de Catalunya (IEEC)\n\n11.40 h – Taula rodona: “Oportunitats de finançament derivades del sector públic” \n\nSra. Anna Monistrol\, public procurement of innovation a ACCIÓ\nSr. Carlos García\, space technical officer delegate to several ESA committees al CDTI\nSra. Cinthya Villafaña\, líder d’equip de l’Oficina Next Generation EU a ACCIÓ\nSra. María José Escorihuela\, responsable del departament d’aplicacions a isardSAT\n\nModera i dinamitza el Sr. Dani Sors\,  cap de l’Oficina de Serveis i Promoció Industrial de l’APEC a l’IEEC \n12.20 h – Taula rodona: “Inversió i finançament privat en el sector NewSpace: oportunitats i reptes” \n\nSr. Íñigo Estébanez de la Mata\, strategy and innovation consultant a STARBURST AERO\nSr. Oriol Pasqual\, founder & CEO a STAGE2 \nSr. Jaume Sanpera\, co-founder & CEO a SATELIOT\nSr. Ramon Saltor\, CEO a DOZEN\n\nModera i dinamitza el Sr. Oriol Sans\, senior startups manager a ACCIÓ \n13:00 h – Aperitiu de networking \n14:00 h – Fi de la jornada
URL:https://dca.cat/ca/esdeveniment/jornada-anual-de-la-comunitat-dca-newspace/
LOCATION:CCCB
CATEGORIES:Espai
ATTACH;FMTTYPE=image/png:https://dca.cat/wp-content/uploads/2023/04/Imatge_JornadaNS_080623_ACTUALITZAT.png
END:VEVENT
END:VCALENDAR