BEGIN:VCALENDAR
VERSION:2.0
PRODID:-//DCA - ECPv6.15.17.1//NONSGML v1.0//EN
CALSCALE:GREGORIAN
METHOD:PUBLISH
X-ORIGINAL-URL:https://dca.cat/ca/
X-WR-CALDESC:Esdeveniments per DCA
REFRESH-INTERVAL;VALUE=DURATION:PT1H
X-Robots-Tag:noindex
X-PUBLISHED-TTL:PT1H
BEGIN:VTIMEZONE
TZID:Europe/Madrid
BEGIN:DAYLIGHT
TZOFFSETFROM:+0100
TZOFFSETTO:+0200
TZNAME:CEST
DTSTART:20220327T010000
END:DAYLIGHT
BEGIN:STANDARD
TZOFFSETFROM:+0200
TZOFFSETTO:+0100
TZNAME:CET
DTSTART:20221030T010000
END:STANDARD
BEGIN:DAYLIGHT
TZOFFSETFROM:+0100
TZOFFSETTO:+0200
TZNAME:CEST
DTSTART:20230326T010000
END:DAYLIGHT
BEGIN:STANDARD
TZOFFSETFROM:+0200
TZOFFSETTO:+0100
TZNAME:CET
DTSTART:20231029T010000
END:STANDARD
BEGIN:DAYLIGHT
TZOFFSETFROM:+0100
TZOFFSETTO:+0200
TZNAME:CEST
DTSTART:20240331T010000
END:DAYLIGHT
BEGIN:STANDARD
TZOFFSETFROM:+0200
TZOFFSETTO:+0100
TZNAME:CET
DTSTART:20241027T010000
END:STANDARD
END:VTIMEZONE
BEGIN:VEVENT
DTSTART;TZID=Europe/Madrid:20230209T100000
DTEND;TZID=Europe/Madrid:20230209T120000
DTSTAMP:20260423T205450
CREATED:20230123T083708Z
LAST-MODIFIED:20230201T085218Z
UID:6529-1675936800-1675944000@dca.cat
SUMMARY:Atracció i retenció del talent al sector NewSpace català
DESCRIPTION:Un dels principals reptes del sector del NewSpace a Catalunya és la generació\, atracció i retenció del talent al territori. Dotar d’estratègies i recursos a l’ecosistema del NewSpace és precisament l’objectiu de la jornada “Atracció i retenció del talent al sector NewSpace català”\, que se celebra el pròxim 9 de febrer de 10.00 h a 12.00 h al Palau Macaya. La jornada està adreçada principalment a membres de la comunitat del NewSpace de la DCA. \nLa jornada començarà amb la presentació del Grup de treball en Talent de la DCA-NewSpace\, creat a finals del 2022 amb la finalitat de definir un full de ruta compartit i sumar esforços en matèria de talent dins de l’ecosistema empresarial del territori. Seguidament\, tindrà lloc la ponència sobre l’ESA i la promoció del talent\, a càrrec de Niels Eldering\, Technology Transfer Officer at ESA’s Technology Transfer Programme Office (TTPO). A continuació\, tindrà lloc la presentació de la convocatòria europea ESA BIC Barcelona\, la incubadora per a l’ecosistema del NewSpace català. L’ESA-BIC pretén impulsar l’acceleració i creixement d’empreses emergents\, que busquen escalar el seu desenvolupament cap a productes comercialitzables\, en molts casos mitjançant la connexió amb les necessitats de l’Administració o de grans empreses tractores presents al nostre ecosistema.  \nLa jornada també comptarà amb una taula rodona amb professionals del NewSpace. Catalunya genera molt talent\, però malauradament una bona part d’aquest talent marxa a l’estranger. En aquesta taula rodona es donarà veu a una professional del territori que viu i treballa a l’estranger\, una persona estrangera que treballa al sector espacial català i una persona del territori que ha treballat durant molt temps fora i ha tornat a Catalunya. La mirada de professionals del sector ajudarà a conèixer i entendre de primera mà els reptes i les oportunitats de l’ecosistema per atraure i retenir el talent del sector. Finalment\, es convidarà a centres de recerca i universitats per debatre sobre com millorar la connexió i sinergies entre l’acadèmia i la indústria\, una relació clau per dinamitzar el mercat laboral del sector. La jornada culminarà amb un esmorzar de networking per potenciar la interrelació i les sinergies entre organitzacions del NewSpace.  \nPrograma\n09.40 h – Recepció d’assistents \n10.00 h – Benvinguda i presentació dels reptes en talent del sector NewSpace \n\nSra. Laura Val\, Business Developer de ROKUBUN i responsable del Grup de treball en Talent de la DCA-Newspace\n\n10.05 h – Ponència “L’ESA i la promoció del talent” (ponència en anglès) \n\nSr. Niels Eldering\, Technology Transfer Officer at ESA’s Technology Transfer Programme Office (TTPO)\n\n10.25 h – Presentació de la convocatòria europea del Programa ESA BIC \n\nSra. Elisabet Vilchez\, mànager de l’ESA BIC Barcelona\n\n10.30 h – Taula rodona: “Oportunitats professionals del Newspace des de diferents perspectives”  \n\nSra. Andrea Jaime Albalat\, Institutional Business Developer a Isar Aerospace- Ottobrunn a Bavaria (Alemanya)\nSra. Helena Carré\, cap d’Infraestructures\, Oficina Catalana de l’Espai a l’Institut d’Estudis Espacials de Catalunya (IEEC)\nSra. Licia Verde\, professora a la Institució Catalana de Recerca i Estudis Avançats (ICREA)\n\nModera i dinamitza la Sra. Estel Blay\, senior business development Manager a GlobalTrust Ltd  i membre de WiA-E Barcelona. \n11.00 h – Ponència “El programa de talent i societat de l’Estratègia de Newspace de Catalunya” \n\nSra. Anna Ruiz\, gestora del Programa Talent i Societat\, Oficina Catalana de l’Espai a l’Institut d’Estudis Espacials de Catalunya (IEEC)\n\n11.10 h – Taula rodona: “La recerca\, promotora del talent en el sector espacial”  \n\nSr. Guillem Anglada\, investigador Ramon i Cajal de l’Institut de Ciències de l’Espai – CSIC i de l’Institut d’Estudis Espacials de Catalunya (IEEC)\nSra. Paula Betriu\, estudiant de doctorat per l’Universitat Politècnica de Catalunya\nSra. Mercè Vall-llossera\, enginyera de Telecomunicacions\, professora i recercaire a la UPC\, experta en remote sensing\n\nModera i dinamitza el Sr. Miquel Sureda\, responsable del Programa de Talent i Societat\, Oficina Catalana de l’Espai a l’Institut d’Estudis Espacials de Catalunya (IEEC) \n11.30 h – Esmorzar de networking \n12.00 h – Fi de la jornada
URL:https://dca.cat/ca/esdeveniment/atraccio-i-retencio-talent-sector-newspace-catala/
LOCATION:CaixaForum Macaya\, Pg. de Sant Joan\, 108\, Barcelona\, 08037\, Espanya
CATEGORIES:Espai
ATTACH;FMTTYPE=image/png:https://dca.cat/wp-content/uploads/2023/01/v3_ImatgeJornadaNS0902.png
END:VEVENT
BEGIN:VEVENT
DTSTART;TZID=Europe/Madrid:20230221T090000
DTEND;TZID=Europe/Madrid:20230221T173000
DTSTAMP:20260423T205450
CREATED:20230206T075339Z
LAST-MODIFIED:20230220T093154Z
UID:6601-1676970000-1677000600@dca.cat
SUMMARY:Jornada ‘AI4EO Catalonia’: Intel·ligència Artificial aplicada a l'Observació de la Terra
DESCRIPTION:El proper 21 de febrer de 2023\, l’Institut d’Estudis Espacials de Catalunya (IEEC) organitzarà la jornada AI4EO Catalonia (per les sigles en anglès)\, sobre Intel·ligència Artificial (IA) aplicada a l’Observació de la Terra (OT) i la Teledetecció (TELED). La trobada té per objectiu reunir tots els actors que desenvolupen activitats en el camp de la IA aplicada a aquestes àrees. \nLa jornada està oberta a qualsevol persona que desitgi assistir i formar part d’aquesta iniciativa\, impulsada per la Generalitat de Catalunya en el marc de l’Estratègia NewSpace de Catalunya\, i amb la col·laboració de l’Aliança de Recerca en Intel·ligència Artificial de Catalunya (AIRA\, Artificial Intelligence Research Alliance of Catalonia) i la comunitat de NewSpace Digital Catalonia Alliance. \nDurant la jornada es compartiran més detalls sobre aquesta iniciativa i els assistents gaudiran d’una sèrie de xerrades d’experts\, juntament amb ponents de diferents empreses\, grups d’investigació i institucions de Catalunya\, i una taula rodona centrada en el «Futur de l’AI4EO a Catalunya». També es duran a terme activitats de networking on els presents podran interactuar entre ells i intercanviar idees i informació de contacte. \nPunts clau que es debatran al llarg del dia seran: \n\nVinculació entre l´acadèmia i la indústria\nLa importància del finançament\nLa necessitat d’investigar en temes d’IA relacionats amb l’OT\n\nPrograma\n(programa provisional. Consulta l’última actualització del programa aquí) \n9:00 – 9:10 – Benvinguda institucional  \n\nLluís Juncà\, director General d’Innovació\, Economia Digital i Emprenedoria\, Generalitat de Catalunya\n\n9:10 – 10:00 – Introducció Iniciatives  \n\n“NewSpace” (Josep Colomé\, Director Oficina Catalana de l’Espai\, IEEC)\nAI4EO i casos d’ús (Carlos López-Martínez Professor i Investigador\, IEEC-UPC)\nEcosistema AI (Josep Lluís Arcos\, Investigador\, CSIC IIIA)\n\n10:00 -1 0:30 – Ponència: “L’auge de la IA per a l’Observació de la Terra”\nPhi-Lab\, Agencia Espacial Europea (ESA) \n\nPierre-Philippe Mathieu\nRochelle Schneider Dos Santos \nCasper Fibaek\n\n10:30 – 11:00 – Ponència \n\nGustau Camps-Valls (Professor i Investigador\, Universitat de Valencia\, UV)\n\n11:00 – 11:30 – Pausa Cafè \n11:30 – 13:00 – Xerrades Empresa i Recerca Sector AI4EO \n\nGMV (Gerard Margarit\, Director de Desenvolupament Empresarial per Anàlisi i Serveis Geoespacials)\nUPC (Mercè Vall-Llossera Ferran\, Professora i Investigadora\, IEEC-UPC)\nEarthPulse (Juan B. Pedro\, CTO)\nOpen Cosmos (Ieremia Crisan i Cordoba\, Mission Concept Engineer)\n\n13:00 – 14:30 – Dinar \n14:30 – 15:30 – Xerrades Empresa i Recerca Sector IA4OT \n\nCVC (Meritxell Bassolas\, Promotora d’Innovació AI)\nSatellogic (David Raskovan\, Director de Desenvolupament Estratègic de Negoci)\nInstitut Cartogràfic i Geològic de Catalunya\, ICGC (Oscar Mora\, Àrea d’Observació de la Terra – productes i serveis radar)\n\n15:30 – 16:30 – Taula Rodona: «El futur de AI4EO a Catalunya» \n\nGustau Camps-Valls (Professor i Investigador\, UV)\nFrancisco Doblas (Cap del Departament de Ciències de la Terra\, BSC)\nJordi Corbera (Responsable Àrea d’Observació de la Terra\, ICGC)\nGerard Margarit (GMV\, Director de Desenvolupament Empresarial per Anàlisi i Serveis Geoespacial)\nLaura Moreno (CEO\, EarthPulse)\nCarlos López-Martínez (Moderador\, Professor i Investigador\, IEEC-UPC)\n\n16:30 – 16:40 Tancament Jornada \n16:40 – Cafè Networking
URL:https://dca.cat/ca/esdeveniment/jornada-ai4eo-catalonia-intelligencia-artificial-aplicada-observacio-terra/
LOCATION:Residència d’Investigadors del CSIC\, C/ Egipcíaques 1-3\, Barcelona\, Barcelona\, 08001\, Espanya
CATEGORIES:IA,Espai
ATTACH;FMTTYPE=image/png:https://dca.cat/wp-content/uploads/2023/02/ENG_Catalonia-AI4EO-Day_eventbrite.png
END:VEVENT
END:VCALENDAR